BEGIN:VCALENDAR
VERSION:2.0
PRODID:-//OnRoad OffRoad Training - ECPv6.15.20//NONSGML v1.0//EN
CALSCALE:GREGORIAN
METHOD:PUBLISH
X-WR-CALNAME:OnRoad OffRoad Training
X-ORIGINAL-URL:https://onroadoffroad.edu.au
X-WR-CALDESC:Events for OnRoad OffRoad Training
REFRESH-INTERVAL;VALUE=DURATION:PT1H
X-Robots-Tag:noindex
X-PUBLISHED-TTL:PT1H
BEGIN:VTIMEZONE
TZID:Australia/Hobart
BEGIN:STANDARD
TZOFFSETFROM:+1100
TZOFFSETTO:+1000
TZNAME:AEST
DTSTART:20250405T160000
END:STANDARD
BEGIN:DAYLIGHT
TZOFFSETFROM:+1000
TZOFFSETTO:+1100
TZNAME:AEDT
DTSTART:20251004T160000
END:DAYLIGHT
BEGIN:STANDARD
TZOFFSETFROM:+1100
TZOFFSETTO:+1000
TZNAME:AEST
DTSTART:20260404T160000
END:STANDARD
BEGIN:DAYLIGHT
TZOFFSETFROM:+1000
TZOFFSETTO:+1100
TZNAME:AEDT
DTSTART:20261003T160000
END:DAYLIGHT
BEGIN:STANDARD
TZOFFSETFROM:+1100
TZOFFSETTO:+1000
TZNAME:AEST
DTSTART:20270403T160000
END:STANDARD
BEGIN:DAYLIGHT
TZOFFSETFROM:+1000
TZOFFSETTO:+1100
TZNAME:AEDT
DTSTART:20271002T160000
END:DAYLIGHT
END:VTIMEZONE
BEGIN:VEVENT
DTSTART;TZID=Australia/Hobart:20260601T080000
DTEND;TZID=Australia/Hobart:20260602T160000
DTSTAMP:20260421T232722
CREATED:20260202T235917Z
LAST-MODIFIED:20260202T235917Z
UID:22597-1780300800-1780416000@onroadoffroad.edu.au
SUMMARY:TLILIC0001 - Licence to transport dangerous goods by road - Hobart
DESCRIPTION:TLILIC0001 Licence to transport dangerous goods by road - Hobart \nIntroductionPurposeLearning OutcomesProgram BenefitsLearning MethodsIntroductionEntry Requirements:\n\n	Participants must provide 100 points of identification and be 18 years of age or over.\n	Maths is a major part of the theory component and a sound understanding is essential to be able to complete this training. You must have the ability to use and understand Basic English.\n	Trousers‚ shirt and boots are required to be worn at each session\n\n\nPurposeThe Dangerous Goods Drivers Licence focuses on the Australian Code for the transport of Dangerous Goods Code by Road & Rail seventh edition (ADG7).\nIt covers all aspects of the Code‚ providing comprehensive information about the state and territory regulatory requirements\, and includes the major changes from ADG6. The responsibilities of all parties in the transport chain are included.\nIt is customised specifically to meet the needs and interests of the participants and is delivered in a manner that ensures high levels of interest and learning retention.\nCourse content includes identification and handling\, safety precautions and equipment\, and compliance with the statutory requirements.Learning Outcomes\nOn successful completion of the program you will receive a Statement of Attainment for: \nTLID3015 Identify and label explosives and dangerous goodsTLID0018 Prepare for transport of dangerous goodsTLIE0009 Carry out basic workplace calculationsTLIE4025 Prepare and process transport documentation for dangerous goodsTLILIC0001 Licence to transport dangerous goods by road\nProgram Benefits\nYou will gain an understanding of:identification and handlingsafety precautions and equipmentcompliance with the statutory requirements\nLearning MethodsTraining: \nThe Training will be delivered by an experienced and qualified trainer\, face to face.\nThe training follows a specifically prepared course session plan and utilises materials such as participant guides\, review questions\, and practical demonstration and tasks.\n\nAssessment:\nMandated national assessment tools are used and include Theory\, Calculations and Practical Assessments\n\n\n\n\n\n\nDate:\n There are currently no intakes available! Please contact us here for more information.\n\nEnrolment Detail\n\n\nUpcoming Workshops\nThere are currently no intakes available! Please contact us here for more information.
URL:https://onroadoffroad.edu.au/calendar/tlilic0001-licence-to-transport-dangerous-goods-by-road-hobart-3/
LOCATION:OnRoad OffRoad Glenorchy 24 Jackson Street\, Glenorchy\, OnRoad OffRoad Glenorchy 24 Jackson Street\, Glenorchy\, Australia
CATEGORIES:Workshop
END:VEVENT
BEGIN:VEVENT
DTSTART;TZID=Australia/Hobart:20260601T080000
DTEND;TZID=Australia/Hobart:20260602T160000
DTSTAMP:20260421T232723
CREATED:20260318T025931Z
LAST-MODIFIED:20260318T025931Z
UID:23257-1780300800-1780416000@onroadoffroad.edu.au
SUMMARY:TLILIC0003 Licence to operate a forklift truck - Devonport
DESCRIPTION:TLILIC0003 Licence to operate a forklift truck - Devonport \nIntroductionPurposeLearning OutcomesProgram BenefitsLearning MethodsIntroductionEntry Requirements:\n\n	Participants must provide 100 points of identification and be 18 years of age or over.\n	Maths is a major part of the theory component and a sound understanding is essential to be able to complete this training. You must have the ability to use and understand Basic English.\n	Trousers‚ shirt and safety boots are required to be worn at each session.\n\n\n\nFor students attending review days.\nOne review day will be free for selected classes\, for subsequent review a charge of $200 applies.\nIf you book in for a review day and do not attend\, this will be deemed as your review day.\nPurposeOur two-day training course is for people who have minimal or no forklift operating experience.\nIt’s an intensive\, hands-on training course\, with the majority of the time spent operating the equipment.\nA strong theoretical and calculations component is also included that focuses on safe operating procedures.Learning Outcomes\nOn successful completion of the program you will receive a Statement of Attainment for: \nTLILIC0003 Licence to operate a forklift truck This program is nationally recognised.An interim High Risk Forklift licence\, in which you must lodge at a Service Tasmania outlet within 60 days. you will also need to pay them the prescribed fee.\nProgram Benefits\nYou will gain an understanding of:Pre Start InspectionsControls and Dashboard orientationCommon activities and/or tasks for forklift driver/operatorShut down procedureMachine fundamentals\, Safety & Emergencies\nLearning MethodsTraining\nThe Training will be delivered by an experienced and qualified trainer\, face to face.\nThe training follows a specifically prepared course session plan and utilises materials such as participant guides\, review questions\, and practical demonstration and tasks.\n\nAssessment\nMandated national assessment tools are used and include Theory\, Calculations and Practical Assessments Review day terms and conditions for selected courses\n\n\n\n\n\n\nDate:\n There are currently no intakes available! Please contact us here for more information.\n\nEnrolment Detail\n\n\nUpcoming Workshops\nThere are currently no intakes available! Please contact us here for more information.
URL:https://onroadoffroad.edu.au/calendar/tlilic0003-licence-to-operate-a-forklift-truck-devonport-3/
LOCATION:Onroad Offroad Devonport\, 40 Appledore Street\, Miandetta\, Devonport\, 7310\, Onroad Offroad Devonport\, 40 Appledore Street\, Miandetta\, Devonport\, 7310\, Australia
CATEGORIES:Workshop
END:VEVENT
BEGIN:VEVENT
DTSTART;TZID=Australia/Hobart:20260615T080000
DTEND;TZID=Australia/Hobart:20260616T160000
DTSTAMP:20260421T232725
CREATED:20260202T235918Z
LAST-MODIFIED:20260202T235918Z
UID:22599-1781510400-1781625600@onroadoffroad.edu.au
SUMMARY:TLILIC0001 - Licence to transport dangerous goods by road - Devonport
DESCRIPTION:TLILIC0001 Licence to transport dangerous goods by road - Devonport \nIntroductionPurposeLearning OutcomesProgram BenefitsLearning MethodsIntroductionEntry Requirements:\n\n	Participants must provide 100 points of identification and be 18 years of age or over.\n	Maths is a major part of the theory component and a sound understanding is essential to be able to complete this training. You must have the ability to use and understand Basic English.\n	Trousers‚ shirt and boots are required to be worn at each session\n\n\nPurposeThe Dangerous Goods Drivers Licence focuses on the Australian Code for the transport of Dangerous Goods Code by Road & Rail seventh edition (ADG7).\nIt covers all aspects of the Code‚ providing comprehensive information about the state and territory regulatory requirements\, and includes the major changes from ADG6. The responsibilities of all parties in the transport chain are included.\nIt is customised specifically to meet the needs and interests of the participants and is delivered in a manner that ensures high levels of interest and learning retention.\nCourse content includes identification and handling\, safety precautions and equipment\, and compliance with the statutory requirements.Learning Outcomes\nOn successful completion of the program you will receive a Statement of Attainment for: \nTLID3015 Identify and label explosives and dangerous goodsTLID0018 Prepare for transport of dangerous goodsTLIE0009 Carry out basic workplace calculationsTLIE4025 Prepare and process transport documentation for dangerous goodsTLILIC0001 Licence to transport dangerous goods by road\nProgram Benefits\nYou will gain an understanding of:identification and handlingsafety precautions and equipmentcompliance with the statutory requirements\nLearning MethodsTraining:\nThe Training will be delivered by an experienced and qualified trainer\, face to face.\nThe training follows a specifically prepared course session plan and utilises materials such as participant guides\, review questions\, and practical demonstration and tasks.\n\nAssessment:\nMandated national assessment tools are used and include Theory\, Calculations and Practical Assessments\n\n\n\n\n\n\nDate:\n There are currently no intakes available! Please contact us here for more information.\n\nEnrolment Detail\n\n\nUpcoming Workshops\nThere are currently no intakes available! Please contact us here for more information.
URL:https://onroadoffroad.edu.au/calendar/tlilic0001-licence-to-transport-dangerous-goods-by-road-devonport-4/
LOCATION:Onroad Offroad Devonport\, 40 Appledore Street\, Miandetta\, Devonport\, 7310\, Onroad Offroad Devonport\, 40 Appledore Street\, Miandetta\, Devonport\, 7310\, Australia
CATEGORIES:Workshop
END:VEVENT
BEGIN:VEVENT
DTSTART;TZID=Australia/Hobart:20260622T090000
DTEND;TZID=Australia/Hobart:20260622T160000
DTSTAMP:20260421T232726
CREATED:20260421T005912Z
LAST-MODIFIED:20260421T005912Z
UID:23670-1782118800-1782144000@onroadoffroad.edu.au
SUMMARY:RIIHAN308F - Load and unload plant - Hobart
DESCRIPTION:RIIHAN308F - Load and unload plant - Hobart \nIntroductionPurposeLearning OutcomesProgram BenefitsLearning MethodsIntroductionEntry Requirements:\n\n	Participants must provide identification and be 18 years of age or over.\n	Sound verbal and written comprehension of the English language is mandatory.\n	Trousers‚ shirt and safety boots are required to be worn at each session.\n\n\n \nPurposeOur one day training course is for people who have minimal or no load and unloading plant experience.\nIt’s an intensive\, hands-on training course\, with the majority of the time spent loading and unloading plant onto a truck or float.\nA strong theoretical component also focuses on safe operating procedures.Learning Outcomes\nOn successful completion of the program you will receive a Statement of Attainment for: \nRIIHAN308F Load and unload plant.\nProgram Benefits\nYou will gain an understanding of:Plan and prepareLoad the plantSecure the plantUnload the plant\nLearning MethodsTraining\nThe Training will be delivered by an experienced and qualified trainer\, face to face.\nThe training follows a specifically prepared course session plan and utilises materials such as participant guides\, review questions\, a workbook and practical tasks.\n\nAssessment\nAssessments will be conducted using a theory and practical assessment tool. The assessor will inform you of each of the assessments prior to them being conducted.\n\n\n\n\n\n\nDate:\n 22 June 2026\n\nEnrolment Detail\n\n\nUpcoming Workshops\n\n\nName\nDate\nLocation\nAvailable Spaces\n\n\n\n\n\n\nRIIHAN308F - Load and unload plant - Hobart\n22 June 2026\nOnRoad OffRoad Glenorchy 24 Jackson Street\, Glenorchy\n5\nApply
URL:https://onroadoffroad.edu.au/calendar/riihan308f-load-and-unload-plant-hobart/
LOCATION:OnRoad OffRoad Glenorchy 24 Jackson Street\, Glenorchy\, OnRoad OffRoad Glenorchy 24 Jackson Street\, Glenorchy\, Australia
CATEGORIES:Workshop
END:VEVENT
END:VCALENDAR