BEGIN:VCALENDAR
VERSION:2.0
PRODID:-//OnRoad OffRoad Training - ECPv6.15.20//NONSGML v1.0//EN
CALSCALE:GREGORIAN
METHOD:PUBLISH
X-WR-CALNAME:OnRoad OffRoad Training
X-ORIGINAL-URL:https://onroadoffroad.edu.au
X-WR-CALDESC:Events for OnRoad OffRoad Training
REFRESH-INTERVAL;VALUE=DURATION:PT1H
X-Robots-Tag:noindex
X-PUBLISHED-TTL:PT1H
BEGIN:VTIMEZONE
TZID:Australia/Hobart
BEGIN:STANDARD
TZOFFSETFROM:+1100
TZOFFSETTO:+1000
TZNAME:AEST
DTSTART:20250405T160000
END:STANDARD
BEGIN:DAYLIGHT
TZOFFSETFROM:+1000
TZOFFSETTO:+1100
TZNAME:AEDT
DTSTART:20251004T160000
END:DAYLIGHT
BEGIN:STANDARD
TZOFFSETFROM:+1100
TZOFFSETTO:+1000
TZNAME:AEST
DTSTART:20260404T160000
END:STANDARD
BEGIN:DAYLIGHT
TZOFFSETFROM:+1000
TZOFFSETTO:+1100
TZNAME:AEDT
DTSTART:20261003T160000
END:DAYLIGHT
BEGIN:STANDARD
TZOFFSETFROM:+1100
TZOFFSETTO:+1000
TZNAME:AEST
DTSTART:20270403T160000
END:STANDARD
BEGIN:DAYLIGHT
TZOFFSETFROM:+1000
TZOFFSETTO:+1100
TZNAME:AEDT
DTSTART:20271002T160000
END:DAYLIGHT
END:VTIMEZONE
BEGIN:VEVENT
DTSTART;TZID=Australia/Hobart:20260727T080000
DTEND;TZID=Australia/Hobart:20260728T160000
DTSTAMP:20260422T040516
CREATED:20260401T045942Z
LAST-MODIFIED:20260401T045942Z
UID:23501-1785139200-1785254400@onroadoffroad.edu.au
SUMMARY:TLILIC0001 Licence to transport dangerous goods by road - Devonport
DESCRIPTION:TLILIC0001 Licence to transport dangerous goods by road - Devonport \nIntroductionPurposeLearning OutcomesProgram BenefitsLearning MethodsIntroductionEntry Requirements:\n\n	Participants must provide 100 points of identification and be 18 years of age or over.\n	Maths is a major part of the theory component and a sound understanding is essential to be able to complete this training. You must have the ability to use and understand Basic English.\n	Trousers‚ shirt and boots are required to be worn at each session\n\n\nPurposeThe Dangerous Goods Drivers Licence focuses on the Australian Code for the transport of Dangerous Goods Code by Road & Rail seventh edition (ADG7).\nIt covers all aspects of the Code‚ providing comprehensive information about the state and territory regulatory requirements\, and includes the major changes from ADG6. The responsibilities of all parties in the transport chain are included.\nIt is customised specifically to meet the needs and interests of the participants and is delivered in a manner that ensures high levels of interest and learning retention.\nCourse content includes identification and handling\, safety precautions and equipment\, and compliance with the statutory requirements.Learning Outcomes\nOn successful completion of the program you will receive a Statement of Attainment for: \nTLID3015 Identify and label explosives and dangerous goodsTLID0018 Prepare for transport of dangerous goodsTLIE0009 Carry out basic workplace calculationsTLIE4025 Prepare and process transport documentation for dangerous goodsTLILIC0001 Licence to transport dangerous goods by road\nProgram Benefits\nYou will gain an understanding of:identification and handlingsafety precautions and equipmentcompliance with the statutory requirements\nLearning MethodsTraining:\nThe Training will be delivered by an experienced and qualified trainer\, face to face.\nThe training follows a specifically prepared course session plan and utilises materials such as participant guides\, review questions\, and practical demonstration and tasks.\n\nAssessment:\nMandated national assessment tools are used and include Theory\, Calculations and Practical Assessments\n\n\n\n\n\n\nDate:\n There are currently no intakes available! Please contact us here for more information.\n\nEnrolment Detail\n\n\nUpcoming Workshops\nThere are currently no intakes available! Please contact us here for more information.
URL:https://onroadoffroad.edu.au/calendar/tlilic0001-licence-to-transport-dangerous-goods-by-road-devonport/
LOCATION:Onroad Offroad Devonport\, 40 Appledore Street\, Miandetta\, Devonport\, 7310\, Onroad Offroad Devonport\, 40 Appledore Street\, Miandetta\, Devonport\, 7310\, Australia
CATEGORIES:Workshop
END:VEVENT
END:VCALENDAR