BEGIN:VCALENDAR
VERSION:2.0
PRODID:-//OnRoad OffRoad Training - ECPv6.15.20//NONSGML v1.0//EN
CALSCALE:GREGORIAN
METHOD:PUBLISH
X-WR-CALNAME:OnRoad OffRoad Training
X-ORIGINAL-URL:https://onroadoffroad.edu.au
X-WR-CALDESC:Events for OnRoad OffRoad Training
REFRESH-INTERVAL;VALUE=DURATION:PT1H
X-Robots-Tag:noindex
X-PUBLISHED-TTL:PT1H
BEGIN:VTIMEZONE
TZID:Australia/Hobart
BEGIN:STANDARD
TZOFFSETFROM:+1100
TZOFFSETTO:+1000
TZNAME:AEST
DTSTART:20250405T160000
END:STANDARD
BEGIN:DAYLIGHT
TZOFFSETFROM:+1000
TZOFFSETTO:+1100
TZNAME:AEDT
DTSTART:20251004T160000
END:DAYLIGHT
BEGIN:STANDARD
TZOFFSETFROM:+1100
TZOFFSETTO:+1000
TZNAME:AEST
DTSTART:20260404T160000
END:STANDARD
BEGIN:DAYLIGHT
TZOFFSETFROM:+1000
TZOFFSETTO:+1100
TZNAME:AEDT
DTSTART:20261003T160000
END:DAYLIGHT
BEGIN:STANDARD
TZOFFSETFROM:+1100
TZOFFSETTO:+1000
TZNAME:AEST
DTSTART:20270403T160000
END:STANDARD
BEGIN:DAYLIGHT
TZOFFSETFROM:+1000
TZOFFSETTO:+1100
TZNAME:AEDT
DTSTART:20271002T160000
END:DAYLIGHT
END:VTIMEZONE
BEGIN:VEVENT
DTSTART;TZID=Australia/Hobart:20260622T090000
DTEND;TZID=Australia/Hobart:20260622T160000
DTSTAMP:20260422T024755
CREATED:20260421T005912Z
LAST-MODIFIED:20260421T005912Z
UID:23670-1782118800-1782144000@onroadoffroad.edu.au
SUMMARY:RIIHAN308F - Load and unload plant - Hobart
DESCRIPTION:RIIHAN308F - Load and unload plant - Hobart \nIntroductionPurposeLearning OutcomesProgram BenefitsLearning MethodsIntroductionEntry Requirements:\n\n	Participants must provide identification and be 18 years of age or over.\n	Sound verbal and written comprehension of the English language is mandatory.\n	Trousers‚ shirt and safety boots are required to be worn at each session.\n\n\n \nPurposeOur one day training course is for people who have minimal or no load and unloading plant experience.\nIt’s an intensive\, hands-on training course\, with the majority of the time spent loading and unloading plant onto a truck or float.\nA strong theoretical component also focuses on safe operating procedures.Learning Outcomes\nOn successful completion of the program you will receive a Statement of Attainment for: \nRIIHAN308F Load and unload plant.\nProgram Benefits\nYou will gain an understanding of:Plan and prepareLoad the plantSecure the plantUnload the plant\nLearning MethodsTraining\nThe Training will be delivered by an experienced and qualified trainer\, face to face.\nThe training follows a specifically prepared course session plan and utilises materials such as participant guides\, review questions\, a workbook and practical tasks.\n\nAssessment\nAssessments will be conducted using a theory and practical assessment tool. The assessor will inform you of each of the assessments prior to them being conducted.\n\n\n\n\n\n\nDate:\n 22 June 2026\n\nEnrolment Detail\n\n\nUpcoming Workshops\n\n\nName\nDate\nLocation\nAvailable Spaces\n\n\n\n\n\n\nRIIHAN308F - Load and unload plant - Hobart\n22 June 2026\nOnRoad OffRoad Glenorchy 24 Jackson Street\, Glenorchy\n5\nApply
URL:https://onroadoffroad.edu.au/calendar/riihan308f-load-and-unload-plant-hobart/
LOCATION:OnRoad OffRoad Glenorchy 24 Jackson Street\, Glenorchy\, OnRoad OffRoad Glenorchy 24 Jackson Street\, Glenorchy\, Australia
CATEGORIES:Workshop
END:VEVENT
END:VCALENDAR